BEGIN:VCALENDAR
VERSION:2.0
PRODID:https://www.bamberg.info/
X-PUBLISHED-TTL:P1D
BEGIN:VEVENT
UID:69e733a758af4
DTSTART;VALUE=DATE:20261126
SEQUENCE:0
TRANSP:OPAQUE
DTEND;VALUE=DATE:20261126
URL:https://en.bamberg.info/veranstaltungen/abendgeschichten_bei_kerzensch-
 757369-12658355/
LOCATION:Fränkische Schweiz-Museum - Pottenstein
SUMMARY:Abendgeschichten bei Kerzenschein
DESCRIPTION:Mit Rainer Streng und René Kraus
X-MICROSOFT-CDO-ALLDAYEVENT:TRUE
DTSTAMP:20260421T102159Z
END:VEVENT
END:VCALENDAR