BEGIN:VCALENDAR
VERSION:2.0
PRODID:https://www.bamberg.info/
X-PUBLISHED-TTL:P1D
BEGIN:VEVENT
UID:69e806abe37a2
DTSTART;VALUE=DATE:20261105
SEQUENCE:0
TRANSP:OPAQUE
DTEND;VALUE=DATE:20261105
URL:https://en.bamberg.info/veranstaltungen/artklusiv-679817-12601003/
LOCATION:Diözesanmuseum des Erzbistums Bamberg - Bamberg
SUMMARY:ARTklusiv
X-MICROSOFT-CDO-ALLDAYEVENT:TRUE
DTSTAMP:20260422T012219Z
END:VEVENT
END:VCALENDAR