BEGIN:VCALENDAR
VERSION:2.0
PRODID:https://www.bamberg.info/
X-PUBLISHED-TTL:P1D
BEGIN:VEVENT
UID:69e7225c0d160
DTSTART:20260425T090000Z
SEQUENCE:0
TRANSP:OPAQUE
DTEND:20260425T160000Z
URL:https://en.bamberg.info/veranstaltungen/ausstellung_dierk_berthel_unfi-
 645967-12660243/
LOCATION:Kunstraum Kesselhaus - Bamberg
SUMMARY:Ausstellung: Dierk Berthel – „unfinished spaces“\, volume II
DTSTAMP:20260421T090812Z
END:VEVENT
END:VCALENDAR