BEGIN:VCALENDAR
VERSION:2.0
PRODID:https://www.bamberg.info/
X-PUBLISHED-TTL:P1D
BEGIN:VEVENT
UID:69e7223672b33
DTSTART:20260425T100000Z
SEQUENCE:0
TRANSP:OPAQUE
DTEND:20260425T150000Z
URL:https://en.bamberg.info/veranstaltungen/ausstellung_himmlisch_und_irdi-
 802011-12680401/
LOCATION:Nord-Pavillon des Klostergartens St. Michael - Bamberg
SUMMARY:Ausstellung: „Himmlisch und Irdisch“
DESCRIPTION:Wenn das Irdische und das Himmlische sich treffen
DTSTAMP:20260421T090734Z
END:VEVENT
END:VCALENDAR