BEGIN:VCALENDAR
VERSION:2.0
PRODID:https://www.bamberg.info/
X-PUBLISHED-TTL:P1D
BEGIN:VEVENT
UID:69e709f76a2c0
DTSTART:20260421T090000Z
SEQUENCE:0
TRANSP:OPAQUE
DTEND:20260421T150000Z
URL:https://en.bamberg.info/veranstaltungen/ausstellung_mauern_der_macht-76
 9809-12665327/
LOCATION:Historisches Museum - Bamberg
SUMMARY:Ausstellung  „Mauern der Macht“
DESCRIPTION:Die Alte Hofhaltung Bamberg
DTSTAMP:20260421T072407Z
END:VEVENT
BEGIN:VEVENT
UID:69e709f76a30a
DTSTART:20260422T090000Z
SEQUENCE:0
TRANSP:OPAQUE
DTEND:20260422T150000Z
URL:https://en.bamberg.info/veranstaltungen/ausstellung_mauern_der_macht-76
 9809-12665327/
LOCATION:Historisches Museum - Bamberg
SUMMARY:Ausstellung  „Mauern der Macht“
DESCRIPTION:Die Alte Hofhaltung Bamberg
DTSTAMP:20260421T072407Z
END:VEVENT
BEGIN:VEVENT
UID:69e709f76a315
DTSTART:20260423T090000Z
SEQUENCE:0
TRANSP:OPAQUE
DTEND:20260423T150000Z
URL:https://en.bamberg.info/veranstaltungen/ausstellung_mauern_der_macht-76
 9809-12665327/
LOCATION:Historisches Museum - Bamberg
SUMMARY:Ausstellung  „Mauern der Macht“
DESCRIPTION:Die Alte Hofhaltung Bamberg
DTSTAMP:20260421T072407Z
END:VEVENT
BEGIN:VEVENT
UID:69e709f76a31d
DTSTART:20260424T090000Z
SEQUENCE:0
TRANSP:OPAQUE
DTEND:20260424T150000Z
URL:https://en.bamberg.info/veranstaltungen/ausstellung_mauern_der_macht-76
 9809-12665327/
LOCATION:Historisches Museum - Bamberg
SUMMARY:Ausstellung  „Mauern der Macht“
DESCRIPTION:Die Alte Hofhaltung Bamberg
DTSTAMP:20260421T072407Z
END:VEVENT
BEGIN:VEVENT
UID:69e709f76a326
DTSTART:20260425T090000Z
SEQUENCE:0
TRANSP:OPAQUE
DTEND:20260425T150000Z
URL:https://en.bamberg.info/veranstaltungen/ausstellung_mauern_der_macht-76
 9809-12665327/
LOCATION:Historisches Museum - Bamberg
SUMMARY:Ausstellung  „Mauern der Macht“
DESCRIPTION:Die Alte Hofhaltung Bamberg
DTSTAMP:20260421T072407Z
END:VEVENT
END:VCALENDAR