BEGIN:VCALENDAR
VERSION:2.0
PRODID:https://www.bamberg.info/
X-PUBLISHED-TTL:P1D
BEGIN:VEVENT
UID:69e722574220d
DTSTART:20260613T100000Z
SEQUENCE:0
TRANSP:OPAQUE
DTEND:20260613T160000Z
URL:https://en.bamberg.info/veranstaltungen/ausstellung_sophia_suessmilch-8
 02005-12680395/
LOCATION:Stadtgalerie Bamberg Villa Dessauer - Bamberg
SUMMARY:Ausstellung: „Sophia Süßmilch und Cathrin Hoffmann“
DESCRIPTION:Jahresausstellung des Kunstverein Bamberg e.V.
DTSTAMP:20260421T090807Z
END:VEVENT
BEGIN:VEVENT
UID:69e722574228b
DTSTART:20260614T100000Z
SEQUENCE:0
TRANSP:OPAQUE
DTEND:20260614T160000Z
URL:https://en.bamberg.info/veranstaltungen/ausstellung_sophia_suessmilch-8
 02005-12680395/
LOCATION:Stadtgalerie Bamberg Villa Dessauer - Bamberg
SUMMARY:Ausstellung: „Sophia Süßmilch und Cathrin Hoffmann“
DESCRIPTION:Jahresausstellung des Kunstverein Bamberg e.V.
DTSTAMP:20260421T090807Z
END:VEVENT
BEGIN:VEVENT
UID:69e7225742296
DTSTART:20260615T100000Z
SEQUENCE:0
TRANSP:OPAQUE
DTEND:20260615T160000Z
URL:https://en.bamberg.info/veranstaltungen/ausstellung_sophia_suessmilch-8
 02005-12680395/
LOCATION:Stadtgalerie Bamberg Villa Dessauer - Bamberg
SUMMARY:Ausstellung: „Sophia Süßmilch und Cathrin Hoffmann“
DESCRIPTION:Jahresausstellung des Kunstverein Bamberg e.V.
DTSTAMP:20260421T090807Z
END:VEVENT
BEGIN:VEVENT
UID:69e722574229e
DTSTART:20260616T100000Z
SEQUENCE:0
TRANSP:OPAQUE
DTEND:20260616T160000Z
URL:https://en.bamberg.info/veranstaltungen/ausstellung_sophia_suessmilch-8
 02005-12680395/
LOCATION:Stadtgalerie Bamberg Villa Dessauer - Bamberg
SUMMARY:Ausstellung: „Sophia Süßmilch und Cathrin Hoffmann“
DESCRIPTION:Jahresausstellung des Kunstverein Bamberg e.V.
DTSTAMP:20260421T090807Z
END:VEVENT
BEGIN:VEVENT
UID:69e72257422a6
DTSTART:20260617T100000Z
SEQUENCE:0
TRANSP:OPAQUE
DTEND:20260617T160000Z
URL:https://en.bamberg.info/veranstaltungen/ausstellung_sophia_suessmilch-8
 02005-12680395/
LOCATION:Stadtgalerie Bamberg Villa Dessauer - Bamberg
SUMMARY:Ausstellung: „Sophia Süßmilch und Cathrin Hoffmann“
DESCRIPTION:Jahresausstellung des Kunstverein Bamberg e.V.
DTSTAMP:20260421T090807Z
END:VEVENT
BEGIN:VEVENT
UID:69e72257422ae
DTSTART:20260618T100000Z
SEQUENCE:0
TRANSP:OPAQUE
DTEND:20260618T160000Z
URL:https://en.bamberg.info/veranstaltungen/ausstellung_sophia_suessmilch-8
 02005-12680395/
LOCATION:Stadtgalerie Bamberg Villa Dessauer - Bamberg
SUMMARY:Ausstellung: „Sophia Süßmilch und Cathrin Hoffmann“
DESCRIPTION:Jahresausstellung des Kunstverein Bamberg e.V.
DTSTAMP:20260421T090807Z
END:VEVENT
BEGIN:VEVENT
UID:69e72257422b5
DTSTART:20260619T100000Z
SEQUENCE:0
TRANSP:OPAQUE
DTEND:20260619T160000Z
URL:https://en.bamberg.info/veranstaltungen/ausstellung_sophia_suessmilch-8
 02005-12680395/
LOCATION:Stadtgalerie Bamberg Villa Dessauer - Bamberg
SUMMARY:Ausstellung: „Sophia Süßmilch und Cathrin Hoffmann“
DESCRIPTION:Jahresausstellung des Kunstverein Bamberg e.V.
DTSTAMP:20260421T090807Z
END:VEVENT
BEGIN:VEVENT
UID:69e72257422bd
DTSTART:20260620T100000Z
SEQUENCE:0
TRANSP:OPAQUE
DTEND:20260620T160000Z
URL:https://en.bamberg.info/veranstaltungen/ausstellung_sophia_suessmilch-8
 02005-12680395/
LOCATION:Stadtgalerie Bamberg Villa Dessauer - Bamberg
SUMMARY:Ausstellung: „Sophia Süßmilch und Cathrin Hoffmann“
DESCRIPTION:Jahresausstellung des Kunstverein Bamberg e.V.
DTSTAMP:20260421T090807Z
END:VEVENT
BEGIN:VEVENT
UID:69e72257422c5
DTSTART:20260621T100000Z
SEQUENCE:0
TRANSP:OPAQUE
DTEND:20260621T160000Z
URL:https://en.bamberg.info/veranstaltungen/ausstellung_sophia_suessmilch-8
 02005-12680395/
LOCATION:Stadtgalerie Bamberg Villa Dessauer - Bamberg
SUMMARY:Ausstellung: „Sophia Süßmilch und Cathrin Hoffmann“
DESCRIPTION:Jahresausstellung des Kunstverein Bamberg e.V.
DTSTAMP:20260421T090807Z
END:VEVENT
BEGIN:VEVENT
UID:69e72257422ce
DTSTART:20260622T100000Z
SEQUENCE:0
TRANSP:OPAQUE
DTEND:20260622T160000Z
URL:https://en.bamberg.info/veranstaltungen/ausstellung_sophia_suessmilch-8
 02005-12680395/
LOCATION:Stadtgalerie Bamberg Villa Dessauer - Bamberg
SUMMARY:Ausstellung: „Sophia Süßmilch und Cathrin Hoffmann“
DESCRIPTION:Jahresausstellung des Kunstverein Bamberg e.V.
DTSTAMP:20260421T090807Z
END:VEVENT
BEGIN:VEVENT
UID:69e72257422d6
DTSTART:20260623T100000Z
SEQUENCE:0
TRANSP:OPAQUE
DTEND:20260623T160000Z
URL:https://en.bamberg.info/veranstaltungen/ausstellung_sophia_suessmilch-8
 02005-12680395/
LOCATION:Stadtgalerie Bamberg Villa Dessauer - Bamberg
SUMMARY:Ausstellung: „Sophia Süßmilch und Cathrin Hoffmann“
DESCRIPTION:Jahresausstellung des Kunstverein Bamberg e.V.
DTSTAMP:20260421T090807Z
END:VEVENT
BEGIN:VEVENT
UID:69e72257422dd
DTSTART:20260624T100000Z
SEQUENCE:0
TRANSP:OPAQUE
DTEND:20260624T160000Z
URL:https://en.bamberg.info/veranstaltungen/ausstellung_sophia_suessmilch-8
 02005-12680395/
LOCATION:Stadtgalerie Bamberg Villa Dessauer - Bamberg
SUMMARY:Ausstellung: „Sophia Süßmilch und Cathrin Hoffmann“
DESCRIPTION:Jahresausstellung des Kunstverein Bamberg e.V.
DTSTAMP:20260421T090807Z
END:VEVENT
BEGIN:VEVENT
UID:69e72257422e5
DTSTART:20260625T100000Z
SEQUENCE:0
TRANSP:OPAQUE
DTEND:20260625T160000Z
URL:https://en.bamberg.info/veranstaltungen/ausstellung_sophia_suessmilch-8
 02005-12680395/
LOCATION:Stadtgalerie Bamberg Villa Dessauer - Bamberg
SUMMARY:Ausstellung: „Sophia Süßmilch und Cathrin Hoffmann“
DESCRIPTION:Jahresausstellung des Kunstverein Bamberg e.V.
DTSTAMP:20260421T090807Z
END:VEVENT
BEGIN:VEVENT
UID:69e72257422ec
DTSTART:20260626T100000Z
SEQUENCE:0
TRANSP:OPAQUE
DTEND:20260626T160000Z
URL:https://en.bamberg.info/veranstaltungen/ausstellung_sophia_suessmilch-8
 02005-12680395/
LOCATION:Stadtgalerie Bamberg Villa Dessauer - Bamberg
SUMMARY:Ausstellung: „Sophia Süßmilch und Cathrin Hoffmann“
DESCRIPTION:Jahresausstellung des Kunstverein Bamberg e.V.
DTSTAMP:20260421T090807Z
END:VEVENT
BEGIN:VEVENT
UID:69e72257422f4
DTSTART:20260627T100000Z
SEQUENCE:0
TRANSP:OPAQUE
DTEND:20260627T160000Z
URL:https://en.bamberg.info/veranstaltungen/ausstellung_sophia_suessmilch-8
 02005-12680395/
LOCATION:Stadtgalerie Bamberg Villa Dessauer - Bamberg
SUMMARY:Ausstellung: „Sophia Süßmilch und Cathrin Hoffmann“
DESCRIPTION:Jahresausstellung des Kunstverein Bamberg e.V.
DTSTAMP:20260421T090807Z
END:VEVENT
BEGIN:VEVENT
UID:69e72257422fb
DTSTART:20260628T100000Z
SEQUENCE:0
TRANSP:OPAQUE
DTEND:20260628T160000Z
URL:https://en.bamberg.info/veranstaltungen/ausstellung_sophia_suessmilch-8
 02005-12680395/
LOCATION:Stadtgalerie Bamberg Villa Dessauer - Bamberg
SUMMARY:Ausstellung: „Sophia Süßmilch und Cathrin Hoffmann“
DESCRIPTION:Jahresausstellung des Kunstverein Bamberg e.V.
DTSTAMP:20260421T090807Z
END:VEVENT
BEGIN:VEVENT
UID:69e7225742303
DTSTART:20260629T100000Z
SEQUENCE:0
TRANSP:OPAQUE
DTEND:20260629T160000Z
URL:https://en.bamberg.info/veranstaltungen/ausstellung_sophia_suessmilch-8
 02005-12680395/
LOCATION:Stadtgalerie Bamberg Villa Dessauer - Bamberg
SUMMARY:Ausstellung: „Sophia Süßmilch und Cathrin Hoffmann“
DESCRIPTION:Jahresausstellung des Kunstverein Bamberg e.V.
DTSTAMP:20260421T090807Z
END:VEVENT
BEGIN:VEVENT
UID:69e722574230c
DTSTART:20260630T100000Z
SEQUENCE:0
TRANSP:OPAQUE
DTEND:20260630T160000Z
URL:https://en.bamberg.info/veranstaltungen/ausstellung_sophia_suessmilch-8
 02005-12680395/
LOCATION:Stadtgalerie Bamberg Villa Dessauer - Bamberg
SUMMARY:Ausstellung: „Sophia Süßmilch und Cathrin Hoffmann“
DESCRIPTION:Jahresausstellung des Kunstverein Bamberg e.V.
DTSTAMP:20260421T090807Z
END:VEVENT
BEGIN:VEVENT
UID:69e7225742314
DTSTART:20260701T100000Z
SEQUENCE:0
TRANSP:OPAQUE
DTEND:20260701T160000Z
URL:https://en.bamberg.info/veranstaltungen/ausstellung_sophia_suessmilch-8
 02005-12680395/
LOCATION:Stadtgalerie Bamberg Villa Dessauer - Bamberg
SUMMARY:Ausstellung: „Sophia Süßmilch und Cathrin Hoffmann“
DESCRIPTION:Jahresausstellung des Kunstverein Bamberg e.V.
DTSTAMP:20260421T090807Z
END:VEVENT
BEGIN:VEVENT
UID:69e722574231c
DTSTART:20260702T100000Z
SEQUENCE:0
TRANSP:OPAQUE
DTEND:20260702T160000Z
URL:https://en.bamberg.info/veranstaltungen/ausstellung_sophia_suessmilch-8
 02005-12680395/
LOCATION:Stadtgalerie Bamberg Villa Dessauer - Bamberg
SUMMARY:Ausstellung: „Sophia Süßmilch und Cathrin Hoffmann“
DESCRIPTION:Jahresausstellung des Kunstverein Bamberg e.V.
DTSTAMP:20260421T090807Z
END:VEVENT
BEGIN:VEVENT
UID:69e7225742324
DTSTART:20260703T100000Z
SEQUENCE:0
TRANSP:OPAQUE
DTEND:20260703T160000Z
URL:https://en.bamberg.info/veranstaltungen/ausstellung_sophia_suessmilch-8
 02005-12680395/
LOCATION:Stadtgalerie Bamberg Villa Dessauer - Bamberg
SUMMARY:Ausstellung: „Sophia Süßmilch und Cathrin Hoffmann“
DESCRIPTION:Jahresausstellung des Kunstverein Bamberg e.V.
DTSTAMP:20260421T090807Z
END:VEVENT
BEGIN:VEVENT
UID:69e722574232b
DTSTART:20260704T100000Z
SEQUENCE:0
TRANSP:OPAQUE
DTEND:20260704T160000Z
URL:https://en.bamberg.info/veranstaltungen/ausstellung_sophia_suessmilch-8
 02005-12680395/
LOCATION:Stadtgalerie Bamberg Villa Dessauer - Bamberg
SUMMARY:Ausstellung: „Sophia Süßmilch und Cathrin Hoffmann“
DESCRIPTION:Jahresausstellung des Kunstverein Bamberg e.V.
DTSTAMP:20260421T090807Z
END:VEVENT
BEGIN:VEVENT
UID:69e7225742333
DTSTART:20260705T100000Z
SEQUENCE:0
TRANSP:OPAQUE
DTEND:20260705T160000Z
URL:https://en.bamberg.info/veranstaltungen/ausstellung_sophia_suessmilch-8
 02005-12680395/
LOCATION:Stadtgalerie Bamberg Villa Dessauer - Bamberg
SUMMARY:Ausstellung: „Sophia Süßmilch und Cathrin Hoffmann“
DESCRIPTION:Jahresausstellung des Kunstverein Bamberg e.V.
DTSTAMP:20260421T090807Z
END:VEVENT
BEGIN:VEVENT
UID:69e722574233a
DTSTART:20260706T100000Z
SEQUENCE:0
TRANSP:OPAQUE
DTEND:20260706T160000Z
URL:https://en.bamberg.info/veranstaltungen/ausstellung_sophia_suessmilch-8
 02005-12680395/
LOCATION:Stadtgalerie Bamberg Villa Dessauer - Bamberg
SUMMARY:Ausstellung: „Sophia Süßmilch und Cathrin Hoffmann“
DESCRIPTION:Jahresausstellung des Kunstverein Bamberg e.V.
DTSTAMP:20260421T090807Z
END:VEVENT
BEGIN:VEVENT
UID:69e7225742342
DTSTART:20260707T100000Z
SEQUENCE:0
TRANSP:OPAQUE
DTEND:20260707T160000Z
URL:https://en.bamberg.info/veranstaltungen/ausstellung_sophia_suessmilch-8
 02005-12680395/
LOCATION:Stadtgalerie Bamberg Villa Dessauer - Bamberg
SUMMARY:Ausstellung: „Sophia Süßmilch und Cathrin Hoffmann“
DESCRIPTION:Jahresausstellung des Kunstverein Bamberg e.V.
DTSTAMP:20260421T090807Z
END:VEVENT
BEGIN:VEVENT
UID:69e722574234a
DTSTART:20260708T100000Z
SEQUENCE:0
TRANSP:OPAQUE
DTEND:20260708T160000Z
URL:https://en.bamberg.info/veranstaltungen/ausstellung_sophia_suessmilch-8
 02005-12680395/
LOCATION:Stadtgalerie Bamberg Villa Dessauer - Bamberg
SUMMARY:Ausstellung: „Sophia Süßmilch und Cathrin Hoffmann“
DESCRIPTION:Jahresausstellung des Kunstverein Bamberg e.V.
DTSTAMP:20260421T090807Z
END:VEVENT
BEGIN:VEVENT
UID:69e7225742352
DTSTART:20260709T100000Z
SEQUENCE:0
TRANSP:OPAQUE
DTEND:20260709T160000Z
URL:https://en.bamberg.info/veranstaltungen/ausstellung_sophia_suessmilch-8
 02005-12680395/
LOCATION:Stadtgalerie Bamberg Villa Dessauer - Bamberg
SUMMARY:Ausstellung: „Sophia Süßmilch und Cathrin Hoffmann“
DESCRIPTION:Jahresausstellung des Kunstverein Bamberg e.V.
DTSTAMP:20260421T090807Z
END:VEVENT
BEGIN:VEVENT
UID:69e7225742359
DTSTART:20260710T100000Z
SEQUENCE:0
TRANSP:OPAQUE
DTEND:20260710T160000Z
URL:https://en.bamberg.info/veranstaltungen/ausstellung_sophia_suessmilch-8
 02005-12680395/
LOCATION:Stadtgalerie Bamberg Villa Dessauer - Bamberg
SUMMARY:Ausstellung: „Sophia Süßmilch und Cathrin Hoffmann“
DESCRIPTION:Jahresausstellung des Kunstverein Bamberg e.V.
DTSTAMP:20260421T090807Z
END:VEVENT
BEGIN:VEVENT
UID:69e7225742361
DTSTART:20260711T100000Z
SEQUENCE:0
TRANSP:OPAQUE
DTEND:20260711T160000Z
URL:https://en.bamberg.info/veranstaltungen/ausstellung_sophia_suessmilch-8
 02005-12680395/
LOCATION:Stadtgalerie Bamberg Villa Dessauer - Bamberg
SUMMARY:Ausstellung: „Sophia Süßmilch und Cathrin Hoffmann“
DESCRIPTION:Jahresausstellung des Kunstverein Bamberg e.V.
DTSTAMP:20260421T090807Z
END:VEVENT
BEGIN:VEVENT
UID:69e7225742368
DTSTART:20260712T100000Z
SEQUENCE:0
TRANSP:OPAQUE
DTEND:20260712T160000Z
URL:https://en.bamberg.info/veranstaltungen/ausstellung_sophia_suessmilch-8
 02005-12680395/
LOCATION:Stadtgalerie Bamberg Villa Dessauer - Bamberg
SUMMARY:Ausstellung: „Sophia Süßmilch und Cathrin Hoffmann“
DESCRIPTION:Jahresausstellung des Kunstverein Bamberg e.V.
DTSTAMP:20260421T090807Z
END:VEVENT
BEGIN:VEVENT
UID:69e7225742370
DTSTART:20260713T100000Z
SEQUENCE:0
TRANSP:OPAQUE
DTEND:20260713T160000Z
URL:https://en.bamberg.info/veranstaltungen/ausstellung_sophia_suessmilch-8
 02005-12680395/
LOCATION:Stadtgalerie Bamberg Villa Dessauer - Bamberg
SUMMARY:Ausstellung: „Sophia Süßmilch und Cathrin Hoffmann“
DESCRIPTION:Jahresausstellung des Kunstverein Bamberg e.V.
DTSTAMP:20260421T090807Z
END:VEVENT
BEGIN:VEVENT
UID:69e7225742377
DTSTART:20260714T100000Z
SEQUENCE:0
TRANSP:OPAQUE
DTEND:20260714T160000Z
URL:https://en.bamberg.info/veranstaltungen/ausstellung_sophia_suessmilch-8
 02005-12680395/
LOCATION:Stadtgalerie Bamberg Villa Dessauer - Bamberg
SUMMARY:Ausstellung: „Sophia Süßmilch und Cathrin Hoffmann“
DESCRIPTION:Jahresausstellung des Kunstverein Bamberg e.V.
DTSTAMP:20260421T090807Z
END:VEVENT
BEGIN:VEVENT
UID:69e722574237f
DTSTART:20260715T100000Z
SEQUENCE:0
TRANSP:OPAQUE
DTEND:20260715T160000Z
URL:https://en.bamberg.info/veranstaltungen/ausstellung_sophia_suessmilch-8
 02005-12680395/
LOCATION:Stadtgalerie Bamberg Villa Dessauer - Bamberg
SUMMARY:Ausstellung: „Sophia Süßmilch und Cathrin Hoffmann“
DESCRIPTION:Jahresausstellung des Kunstverein Bamberg e.V.
DTSTAMP:20260421T090807Z
END:VEVENT
BEGIN:VEVENT
UID:69e7225742387
DTSTART:20260716T100000Z
SEQUENCE:0
TRANSP:OPAQUE
DTEND:20260716T160000Z
URL:https://en.bamberg.info/veranstaltungen/ausstellung_sophia_suessmilch-8
 02005-12680395/
LOCATION:Stadtgalerie Bamberg Villa Dessauer - Bamberg
SUMMARY:Ausstellung: „Sophia Süßmilch und Cathrin Hoffmann“
DESCRIPTION:Jahresausstellung des Kunstverein Bamberg e.V.
DTSTAMP:20260421T090807Z
END:VEVENT
BEGIN:VEVENT
UID:69e722574238f
DTSTART:20260717T100000Z
SEQUENCE:0
TRANSP:OPAQUE
DTEND:20260717T160000Z
URL:https://en.bamberg.info/veranstaltungen/ausstellung_sophia_suessmilch-8
 02005-12680395/
LOCATION:Stadtgalerie Bamberg Villa Dessauer - Bamberg
SUMMARY:Ausstellung: „Sophia Süßmilch und Cathrin Hoffmann“
DESCRIPTION:Jahresausstellung des Kunstverein Bamberg e.V.
DTSTAMP:20260421T090807Z
END:VEVENT
BEGIN:VEVENT
UID:69e7225742397
DTSTART:20260718T100000Z
SEQUENCE:0
TRANSP:OPAQUE
DTEND:20260718T160000Z
URL:https://en.bamberg.info/veranstaltungen/ausstellung_sophia_suessmilch-8
 02005-12680395/
LOCATION:Stadtgalerie Bamberg Villa Dessauer - Bamberg
SUMMARY:Ausstellung: „Sophia Süßmilch und Cathrin Hoffmann“
DESCRIPTION:Jahresausstellung des Kunstverein Bamberg e.V.
DTSTAMP:20260421T090807Z
END:VEVENT
BEGIN:VEVENT
UID:69e722574239e
DTSTART:20260719T100000Z
SEQUENCE:0
TRANSP:OPAQUE
DTEND:20260719T160000Z
URL:https://en.bamberg.info/veranstaltungen/ausstellung_sophia_suessmilch-8
 02005-12680395/
LOCATION:Stadtgalerie Bamberg Villa Dessauer - Bamberg
SUMMARY:Ausstellung: „Sophia Süßmilch und Cathrin Hoffmann“
DESCRIPTION:Jahresausstellung des Kunstverein Bamberg e.V.
DTSTAMP:20260421T090807Z
END:VEVENT
BEGIN:VEVENT
UID:69e72257423a6
DTSTART:20260720T100000Z
SEQUENCE:0
TRANSP:OPAQUE
DTEND:20260720T160000Z
URL:https://en.bamberg.info/veranstaltungen/ausstellung_sophia_suessmilch-8
 02005-12680395/
LOCATION:Stadtgalerie Bamberg Villa Dessauer - Bamberg
SUMMARY:Ausstellung: „Sophia Süßmilch und Cathrin Hoffmann“
DESCRIPTION:Jahresausstellung des Kunstverein Bamberg e.V.
DTSTAMP:20260421T090807Z
END:VEVENT
BEGIN:VEVENT
UID:69e72257423ad
DTSTART:20260721T100000Z
SEQUENCE:0
TRANSP:OPAQUE
DTEND:20260721T160000Z
URL:https://en.bamberg.info/veranstaltungen/ausstellung_sophia_suessmilch-8
 02005-12680395/
LOCATION:Stadtgalerie Bamberg Villa Dessauer - Bamberg
SUMMARY:Ausstellung: „Sophia Süßmilch und Cathrin Hoffmann“
DESCRIPTION:Jahresausstellung des Kunstverein Bamberg e.V.
DTSTAMP:20260421T090807Z
END:VEVENT
BEGIN:VEVENT
UID:69e72257423b5
DTSTART:20260722T100000Z
SEQUENCE:0
TRANSP:OPAQUE
DTEND:20260722T160000Z
URL:https://en.bamberg.info/veranstaltungen/ausstellung_sophia_suessmilch-8
 02005-12680395/
LOCATION:Stadtgalerie Bamberg Villa Dessauer - Bamberg
SUMMARY:Ausstellung: „Sophia Süßmilch und Cathrin Hoffmann“
DESCRIPTION:Jahresausstellung des Kunstverein Bamberg e.V.
DTSTAMP:20260421T090807Z
END:VEVENT
BEGIN:VEVENT
UID:69e72257423bc
DTSTART:20260723T100000Z
SEQUENCE:0
TRANSP:OPAQUE
DTEND:20260723T160000Z
URL:https://en.bamberg.info/veranstaltungen/ausstellung_sophia_suessmilch-8
 02005-12680395/
LOCATION:Stadtgalerie Bamberg Villa Dessauer - Bamberg
SUMMARY:Ausstellung: „Sophia Süßmilch und Cathrin Hoffmann“
DESCRIPTION:Jahresausstellung des Kunstverein Bamberg e.V.
DTSTAMP:20260421T090807Z
END:VEVENT
BEGIN:VEVENT
UID:69e72257423c4
DTSTART:20260724T100000Z
SEQUENCE:0
TRANSP:OPAQUE
DTEND:20260724T160000Z
URL:https://en.bamberg.info/veranstaltungen/ausstellung_sophia_suessmilch-8
 02005-12680395/
LOCATION:Stadtgalerie Bamberg Villa Dessauer - Bamberg
SUMMARY:Ausstellung: „Sophia Süßmilch und Cathrin Hoffmann“
DESCRIPTION:Jahresausstellung des Kunstverein Bamberg e.V.
DTSTAMP:20260421T090807Z
END:VEVENT
BEGIN:VEVENT
UID:69e72257423cc
DTSTART:20260725T100000Z
SEQUENCE:0
TRANSP:OPAQUE
DTEND:20260725T160000Z
URL:https://en.bamberg.info/veranstaltungen/ausstellung_sophia_suessmilch-8
 02005-12680395/
LOCATION:Stadtgalerie Bamberg Villa Dessauer - Bamberg
SUMMARY:Ausstellung: „Sophia Süßmilch und Cathrin Hoffmann“
DESCRIPTION:Jahresausstellung des Kunstverein Bamberg e.V.
DTSTAMP:20260421T090807Z
END:VEVENT
END:VCALENDAR