BEGIN:VCALENDAR
VERSION:2.0
PRODID:https://www.bamberg.info/
X-PUBLISHED-TTL:P1D
BEGIN:VEVENT
UID:69e70a3b29bf4
DTSTART:20260421T090000Z
SEQUENCE:0
TRANSP:OPAQUE
DTEND:20260421T150000Z
URL:https://en.bamberg.info/veranstaltungen/ausstellung_zeit_und_raum_astr-
 802031-12680615/
LOCATION:Historisches Museum - Bamberg
SUMMARY:Ausstellung \"Zeit und Raum | Astronomie und Zeitmessung\"
DTSTAMP:20260421T072515Z
END:VEVENT
BEGIN:VEVENT
UID:69e70a3b29c1c
DTSTART:20260422T090000Z
SEQUENCE:0
TRANSP:OPAQUE
DTEND:20260422T150000Z
URL:https://en.bamberg.info/veranstaltungen/ausstellung_zeit_und_raum_astr-
 802031-12680615/
LOCATION:Historisches Museum - Bamberg
SUMMARY:Ausstellung \"Zeit und Raum | Astronomie und Zeitmessung\"
DTSTAMP:20260421T072515Z
END:VEVENT
BEGIN:VEVENT
UID:69e70a3b29c26
DTSTART:20260423T090000Z
SEQUENCE:0
TRANSP:OPAQUE
DTEND:20260423T150000Z
URL:https://en.bamberg.info/veranstaltungen/ausstellung_zeit_und_raum_astr-
 802031-12680615/
LOCATION:Historisches Museum - Bamberg
SUMMARY:Ausstellung \"Zeit und Raum | Astronomie und Zeitmessung\"
DTSTAMP:20260421T072515Z
END:VEVENT
BEGIN:VEVENT
UID:69e70a3b29c2e
DTSTART:20260424T090000Z
SEQUENCE:0
TRANSP:OPAQUE
DTEND:20260424T150000Z
URL:https://en.bamberg.info/veranstaltungen/ausstellung_zeit_und_raum_astr-
 802031-12680615/
LOCATION:Historisches Museum - Bamberg
SUMMARY:Ausstellung \"Zeit und Raum | Astronomie und Zeitmessung\"
DTSTAMP:20260421T072515Z
END:VEVENT
BEGIN:VEVENT
UID:69e70a3b29c36
DTSTART:20260425T090000Z
SEQUENCE:0
TRANSP:OPAQUE
DTEND:20260425T150000Z
URL:https://en.bamberg.info/veranstaltungen/ausstellung_zeit_und_raum_astr-
 802031-12680615/
LOCATION:Historisches Museum - Bamberg
SUMMARY:Ausstellung \"Zeit und Raum | Astronomie und Zeitmessung\"
DTSTAMP:20260421T072515Z
END:VEVENT
END:VCALENDAR