BEGIN:VCALENDAR
VERSION:2.0
PRODID:https://www.bamberg.info/
X-PUBLISHED-TTL:P1D
BEGIN:VEVENT
UID:69eb8d2a74cf6
DTSTART:20260422T050000Z
SEQUENCE:0
TRANSP:OPAQUE
DTEND:20260422T073000Z
URL:https://en.bamberg.info/veranstaltungen/bamberg_and_its_beer-incl_brew-
 292973-12578565/
LOCATION:BAMBERG Tourismus & Kongress Service - Bamberg
SUMMARY:Bamberg und sein flüssiges Brot - mit Brauereimuseum
DTSTAMP:20260424T173258Z
END:VEVENT
BEGIN:VEVENT
UID:69eb8d2a74dd3
DTSTART:20260423T050000Z
SEQUENCE:0
TRANSP:OPAQUE
DTEND:20260423T073000Z
URL:https://en.bamberg.info/veranstaltungen/bamberg_and_its_beer-incl_brew-
 292973-12578565/
LOCATION:BAMBERG Tourismus & Kongress Service - Bamberg
SUMMARY:Bamberg und sein flüssiges Brot - mit Brauereimuseum
DTSTAMP:20260424T173258Z
END:VEVENT
BEGIN:VEVENT
UID:69eb8d2a74de7
DTSTART:20260424T050000Z
SEQUENCE:0
TRANSP:OPAQUE
DTEND:20260424T073000Z
URL:https://en.bamberg.info/veranstaltungen/bamberg_and_its_beer-incl_brew-
 292973-12578565/
LOCATION:BAMBERG Tourismus & Kongress Service - Bamberg
SUMMARY:Bamberg und sein flüssiges Brot - mit Brauereimuseum
DTSTAMP:20260424T173258Z
END:VEVENT
BEGIN:VEVENT
UID:69eb8d2a74df5
DTSTART:20260425T050000Z
SEQUENCE:0
TRANSP:OPAQUE
DTEND:20260425T073000Z
URL:https://en.bamberg.info/veranstaltungen/bamberg_and_its_beer-incl_brew-
 292973-12578565/
LOCATION:BAMBERG Tourismus & Kongress Service - Bamberg
SUMMARY:Bamberg und sein flüssiges Brot - mit Brauereimuseum
DTSTAMP:20260424T173258Z
END:VEVENT
END:VCALENDAR