BEGIN:VCALENDAR
VERSION:2.0
PRODID:https://www.bamberg.info/
X-PUBLISHED-TTL:P1D
BEGIN:VEVENT
UID:69e73a105dc85
DTSTART;VALUE=DATE:20260524
SEQUENCE:0
TRANSP:OPAQUE
DTEND;VALUE=DATE:20260524
URL:https://en.bamberg.info/veranstaltungen/benefizkonzert_zur_wiedereroef-
 799727-12679875/
LOCATION:Kloster St. Michael - Bamberg
SUMMARY:Benefizkonzert zur Wiedereröffnung von St. Michael
X-MICROSOFT-CDO-ALLDAYEVENT:TRUE
DTSTAMP:20260421T104920Z
END:VEVENT
END:VCALENDAR