BEGIN:VCALENDAR
VERSION:2.0
PRODID:https://www.bamberg.info/
X-PUBLISHED-TTL:P1D
BEGIN:VEVENT
UID:69e77b6cc569a
DTSTART;VALUE=DATE:20261114
SEQUENCE:0
TRANSP:OPAQUE
DTEND;VALUE=DATE:20261114
URL:https://en.bamberg.info/veranstaltungen/blick_hinter_die_kulissen-68727
 1-12605435/
LOCATION:Staatsbibliothek Bamberg in der Neuen Residenz - Bamberg
SUMMARY:Blick hinter die Kulissen
DESCRIPTION:Geführter Rundgang durch die Staatsbibliothek Bamberg
X-MICROSOFT-CDO-ALLDAYEVENT:TRUE
DTSTAMP:20260421T152812Z
END:VEVENT
END:VCALENDAR