BEGIN:VCALENDAR
VERSION:2.0
PRODID:https://www.bamberg.info/
X-PUBLISHED-TTL:P1D
BEGIN:VEVENT
UID:69e7655c2f9d7
DTSTART;VALUE=DATE:20260517
SEQUENCE:0
TRANSP:OPAQUE
DTEND;VALUE=DATE:20260517
URL:https://en.bamberg.info/veranstaltungen/buchrestaurierung_in_der_staat-
 799681-12679829/
LOCATION:Staatsbibliothek Bamberg in der Neuen Residenz - Bamberg
SUMMARY:Buchrestaurierung in der Staatsbibliothek Bamberg
DESCRIPTION:Internationaler Museumstag - Eintritt frei!
X-MICROSOFT-CDO-ALLDAYEVENT:TRUE
DTSTAMP:20260421T135404Z
END:VEVENT
END:VCALENDAR