BEGIN:VCALENDAR
VERSION:2.0
PRODID:https://www.bamberg.info/
X-PUBLISHED-TTL:P1D
BEGIN:VEVENT
UID:69e4da3e8e025
DTSTART;VALUE=DATE:20260419
SEQUENCE:0
TRANSP:OPAQUE
DTEND;VALUE=DATE:20260419
URL:https://en.bamberg.info/veranstaltungen/das_kriminal_dinner-584815-1254
 5429/
LOCATION:Brauhaus Zum Sternla - Bamberg
SUMMARY:Das Kriminal Dinner
X-MICROSOFT-CDO-ALLDAYEVENT:TRUE
DTSTAMP:20260419T153558Z
END:VEVENT
END:VCALENDAR