BEGIN:VCALENDAR
VERSION:2.0
PRODID:https://www.bamberg.info/
X-PUBLISHED-TTL:P1D
BEGIN:VEVENT
UID:69e4bfb9343f1
DTSTART;VALUE=DATE:20260520
SEQUENCE:0
TRANSP:OPAQUE
DTEND;VALUE=DATE:20260520
URL:https://en.bamberg.info/veranstaltungen/des_kapellmeisters_johannes_kr-
 798897-12679683/
LOCATION:ETA Hoffmann Theater Bamberg - Bamberg
SUMMARY:Des Kapellmeisters Johannes Kreislers musikalische Leiden - Auftakt
 veranstaltung zu 250 Jahren ETA Hoffmann
DESCRIPTION:Freier Verkauf
X-MICROSOFT-CDO-ALLDAYEVENT:TRUE
DTSTAMP:20260419T134249Z
END:VEVENT
END:VCALENDAR