BEGIN:VCALENDAR
VERSION:2.0
PRODID:https://www.bamberg.info/
X-PUBLISHED-TTL:P1D
BEGIN:VEVENT
UID:69e915d7f074c
DTSTART;VALUE=DATE:20260529
SEQUENCE:0
TRANSP:OPAQUE
DTEND;VALUE=DATE:20260529
URL:https://en.bamberg.info/veranstaltungen/duo_schlesinger_lackerschmid-76
 4435-12661999/
LOCATION:St. Elisabeth - Bamberg
SUMMARY:Duo Schlesinger / Lackerschmid
DESCRIPTION:HERZSCHMERZ - Lüpertzlieder
X-MICROSOFT-CDO-ALLDAYEVENT:TRUE
DTSTAMP:20260422T203919Z
END:VEVENT
END:VCALENDAR