BEGIN:VCALENDAR
VERSION:2.0
PRODID:https://www.bamberg.info/
X-PUBLISHED-TTL:P1D
BEGIN:VEVENT
UID:69e7225b94584
DTSTART:20260503T080000Z
SEQUENCE:0
TRANSP:OPAQUE
DTEND:20260503T150000Z
URL:https://en.bamberg.info/veranstaltungen/fairtastisch_nachhaltigkeitsma-
 801987-12680347/
LOCATION:Bauernmuseum Bamberger Land - Frensdorf
SUMMARY:Fairtastisch Nachhaltigkeitsmarkt
DESCRIPTION:Wie schmeckt Nachhaltigkeit? Wie lassen sich fairer Handel\, be
 wusster Konsum und regionale Produkte im Alltag erleben? Antworten darauf 
 gibt „Fairtastisch“  im Bauernmuseum Bamberger Land in Frensdorf
DTSTAMP:20260421T090811Z
END:VEVENT
END:VCALENDAR