BEGIN:VCALENDAR
VERSION:2.0
PRODID:https://www.bamberg.info/
X-PUBLISHED-TTL:P1D
BEGIN:VEVENT
UID:69eb3e94a35dd
DTSTART;VALUE=DATE:20260516
SEQUENCE:0
TRANSP:OPAQUE
DTEND;VALUE=DATE:20260516
URL:https://en.bamberg.info/veranstaltungen/fragiles_erbe_bleibendes_licht-
 808879-12683227/
LOCATION:Diözesanmuseum des Erzbistums Bamberg - Bamberg
SUMMARY:Fragiles Erbe – bleibendes Licht:
DESCRIPTION:Das Andreasfenster im Dialog
X-MICROSOFT-CDO-ALLDAYEVENT:TRUE
DTSTAMP:20260424T115740Z
END:VEVENT
END:VCALENDAR