BEGIN:VCALENDAR
VERSION:2.0
PRODID:https://www.bamberg.info/
X-PUBLISHED-TTL:P1D
BEGIN:VEVENT
UID:69e721f3ed199
DTSTART;VALUE=DATE:20260426
SEQUENCE:0
TRANSP:OPAQUE
DTEND;VALUE=DATE:20260426
URL:https://en.bamberg.info/veranstaltungen/himmlisch_und_irdisch-801857-12
 680197/
LOCATION:Kloster St. Michael - Bamberg
SUMMARY:„Himmlisch und Irdisch“
DESCRIPTION:Vernissage Kunstausstellung im Nord-Pavillon anlässlich der Wi
 edereröffnung von St. Michael
X-MICROSOFT-CDO-ALLDAYEVENT:TRUE
DTSTAMP:20260421T090627Z
END:VEVENT
END:VCALENDAR