BEGIN:VCALENDAR
VERSION:2.0
PRODID:https://www.bamberg.info/
X-PUBLISHED-TTL:P1D
BEGIN:VEVENT
UID:69e74e766e740
DTSTART;VALUE=DATE:20260517
SEQUENCE:0
TRANSP:OPAQUE
DTEND;VALUE=DATE:20260517
URL:https://en.bamberg.info/veranstaltungen/internationaler_museumstag-fre-
 799685-12679833/
LOCATION:Museen der Stadt Bamberg - Bamberg
SUMMARY:Internationaler Museumstag - freier Eintritt in die Museen und Kult
 ureinrichtungen auf dem Domberg
X-MICROSOFT-CDO-ALLDAYEVENT:TRUE
DTSTAMP:20260421T121622Z
END:VEVENT
END:VCALENDAR