BEGIN:VCALENDAR
VERSION:2.0
PRODID:https://www.bamberg.info/
X-PUBLISHED-TTL:P1D
BEGIN:VEVENT
UID:69e518eb36208
DTSTART;VALUE=DATE:20260915
SEQUENCE:0
TRANSP:OPAQUE
DTEND;VALUE=DATE:20260915
URL:https://en.bamberg.info/veranstaltungen/oeffentliche_fuehrung_domschat-
 740737-12643655/
LOCATION:Diözesanmuseum des Erzbistums Bamberg - Bamberg
SUMMARY:Öffentliche Führung  Dom.Schatz.Kreuzgang
DESCRIPTION:Kombiführung Dom & Diözesanmuseum
X-MICROSOFT-CDO-ALLDAYEVENT:TRUE
DTSTAMP:20260419T200323Z
END:VEVENT
END:VCALENDAR