BEGIN:VCALENDAR
VERSION:2.0
PRODID:https://www.bamberg.info/
X-PUBLISHED-TTL:P1D
BEGIN:VEVENT
UID:69ea31039c494
DTSTART:20260515T090000Z
SEQUENCE:0
TRANSP:OPAQUE
DTEND:20260515T100000Z
URL:https://en.bamberg.info/veranstaltungen/so_close_to_heaven_guided_tour-
 769055-12664871/
LOCATION:St. Michael - Bamberg
SUMMARY:Dem Himmel so nah – Führung in der Kirche St. Michael
DTSTAMP:20260423T164731Z
END:VEVENT
BEGIN:VEVENT
UID:69ea31039c4f3
DTSTART:20260516T090000Z
SEQUENCE:0
TRANSP:OPAQUE
DTEND:20260516T100000Z
URL:https://en.bamberg.info/veranstaltungen/so_close_to_heaven_guided_tour-
 769055-12664871/
LOCATION:St. Michael - Bamberg
SUMMARY:Dem Himmel so nah – Führung in der Kirche St. Michael
DTSTAMP:20260423T164731Z
END:VEVENT
END:VCALENDAR