BEGIN:VCALENDAR
VERSION:2.0
PRODID:https://www.bamberg.info/
X-PUBLISHED-TTL:P1D
BEGIN:VEVENT
UID:69e765ca1d260
DTSTART;VALUE=DATE:20260428
SEQUENCE:0
TRANSP:OPAQUE
DTEND;VALUE=DATE:20260428
URL:https://en.bamberg.info/veranstaltungen/vergessene_kunst_in_bamberg_al-
 772627-12665793/
LOCATION:Staatsbibliothek Bamberg in der Neuen Residenz - Bamberg
SUMMARY:Vergessene Kunst in Bamberg. Alexej Borutscheff (1911–1994)
DESCRIPTION:Öffentliche Führung
X-MICROSOFT-CDO-ALLDAYEVENT:TRUE
DTSTAMP:20260421T135554Z
END:VEVENT
END:VCALENDAR